BEGIN:VCALENDAR
VERSION:2.0
PRODID:-//Ariva - ECPv6.15.20//NONSGML v1.0//EN
CALSCALE:GREGORIAN
METHOD:PUBLISH
X-ORIGINAL-URL:https://arivalasvegas.com
X-WR-CALDESC:Events for Ariva
REFRESH-INTERVAL;VALUE=DURATION:PT1H
X-Robots-Tag:noindex
X-PUBLISHED-TTL:PT1H
BEGIN:VTIMEZONE
TZID:America/Los_Angeles
BEGIN:DAYLIGHT
TZOFFSETFROM:-0800
TZOFFSETTO:-0700
TZNAME:PDT
DTSTART:20230312T100000
END:DAYLIGHT
BEGIN:STANDARD
TZOFFSETFROM:-0700
TZOFFSETTO:-0800
TZNAME:PST
DTSTART:20231105T090000
END:STANDARD
BEGIN:DAYLIGHT
TZOFFSETFROM:-0800
TZOFFSETTO:-0700
TZNAME:PDT
DTSTART:20240310T100000
END:DAYLIGHT
BEGIN:STANDARD
TZOFFSETFROM:-0700
TZOFFSETTO:-0800
TZNAME:PST
DTSTART:20241103T090000
END:STANDARD
BEGIN:DAYLIGHT
TZOFFSETFROM:-0800
TZOFFSETTO:-0700
TZNAME:PDT
DTSTART:20250309T100000
END:DAYLIGHT
BEGIN:STANDARD
TZOFFSETFROM:-0700
TZOFFSETTO:-0800
TZNAME:PST
DTSTART:20251102T090000
END:STANDARD
END:VTIMEZONE
BEGIN:VEVENT
DTSTART;TZID=America/Los_Angeles:20241001T080000
DTEND;TZID=America/Los_Angeles:20241001T170000
DTSTAMP:20260420T043849
CREATED:20241101T225043Z
LAST-MODIFIED:20241101T230321Z
UID:10000394-1727769600-1727802000@arivalasvegas.com
SUMMARY:Fall Door Decorating Contest!
DESCRIPTION:Get ready to showcase your creativity! Join our Fall Door Decorating Contest\, kicking off on October 1st. Transform your door into a festive masterpiece and let your imagination run wild! Winner will be announced on October 31st with fabulous prizes for 1st\, 2nd\, and 3rd place!
URL:https://arivalasvegas.com/event/fall-door-decorating-contest/
CATEGORIES:Events,Resident Only
END:VEVENT
BEGIN:VEVENT
DTSTART;TZID=America/Los_Angeles:20241005T110000
DTEND;TZID=America/Los_Angeles:20241005T120000
DTSTAMP:20260420T043849
CREATED:20241101T225151Z
LAST-MODIFIED:20241101T225151Z
UID:10000395-1728126000-1728129600@arivalasvegas.com
SUMMARY:Goat Yoga
DESCRIPTION:Join us for a delightful Goat Yoga class! Experience the joy of yoga as playful goats roam freely around you\, adding laughter and fun to your practice. Suitable for all levels\, this unique session combines gentle poses with the company of adorable goats.
URL:https://arivalasvegas.com/event/goat-yoga/
CATEGORIES:Events,Resident Only
END:VEVENT
BEGIN:VEVENT
DTSTART;TZID=America/Los_Angeles:20241006T130000
DTEND;TZID=America/Los_Angeles:20241006T160000
DTSTAMP:20260420T043849
CREATED:20241101T225307Z
LAST-MODIFIED:20241101T225307Z
UID:10000396-1728219600-1728230400@arivalasvegas.com
SUMMARY:Raiders vs Broncos Watch Party
DESCRIPTION:Dive into a delicious catered lunch 🍔 Enjoy all the refreshments you can handle. Don’t miss our halftime games for a chance to win awesome prizes!
URL:https://arivalasvegas.com/event/raiders-vs-broncos-watch-party/
CATEGORIES:Events,Resident Only
END:VEVENT
BEGIN:VEVENT
DTSTART;TZID=America/Los_Angeles:20241010T180000
DTEND;TZID=America/Los_Angeles:20241010T200000
DTSTAMP:20260420T043849
CREATED:20241101T225419Z
LAST-MODIFIED:20241101T225419Z
UID:10000397-1728583200-1728590400@arivalasvegas.com
SUMMARY:Wicked Wicks: Candlemaking Workshop
DESCRIPTION:Join us for an enchanting evening at our *Wicked Wicks* candle-making workshop\, where creativity meets cozy vibes! Sip on delicious wine while you craft your very own fall-inspired custom candle with expert guidance!
URL:https://arivalasvegas.com/event/wicked-wicks-candlemaking-workshop/
CATEGORIES:Events,Resident Only
END:VEVENT
BEGIN:VEVENT
DTSTART;TZID=America/Los_Angeles:20241013T130000
DTEND;TZID=America/Los_Angeles:20241013T160000
DTSTAMP:20260420T043849
CREATED:20241101T225833Z
LAST-MODIFIED:20241101T225833Z
UID:10000398-1728824400-1728835200@arivalasvegas.com
SUMMARY:Steelers vs Raiders Watch Party!
DESCRIPTION:Join us for a mouthwatering catered lunch while you catch all the games on the big screens in the Resident Lounge and Theatre Room! 🍗🍔 Indulge in endless refreshments and don’t miss our halftime games for a shot at fantastic prizes!
URL:https://arivalasvegas.com/event/steelers-vs-raiders-watch-party/
CATEGORIES:Events,Resident Only
END:VEVENT
BEGIN:VEVENT
DTSTART;TZID=America/Los_Angeles:20241020T100000
DTEND;TZID=America/Los_Angeles:20241020T150000
DTSTAMP:20260420T043849
CREATED:20241101T230543Z
LAST-MODIFIED:20241101T230543Z
UID:10000404-1729418400-1729436400@arivalasvegas.com
SUMMARY:Viva Ariva Farmers Market
DESCRIPTION:Join us for a vibrant gathering celebrating plant-based living and sustainable agriculture. From flavorful vegan treats to handmade cruelty-free goods\, there’s something for everyone to enjoy!
URL:https://arivalasvegas.com/event/viva-ariva-farmers-market/
CATEGORIES:Community Event,Events
END:VEVENT
BEGIN:VEVENT
DTSTART;TZID=America/Los_Angeles:20241020T130000
DTEND;TZID=America/Los_Angeles:20241020T160000
DTSTAMP:20260420T043849
CREATED:20241101T225917Z
LAST-MODIFIED:20241101T230012Z
UID:10000399-1729429200-1729440000@arivalasvegas.com
SUMMARY:Raiders vs Rams Watch Party!
DESCRIPTION:Join us for a mouthwatering catered lunch while you catch all the games on the big screens in the Resident Lounge and Theatre Room! 🍗🍔 Indulge in endless refreshments and don’t miss our halftime games for a shot at fantastic prizes!
URL:https://arivalasvegas.com/event/steelers-vs-rams-watch-party/
CATEGORIES:Events,Resident Only
END:VEVENT
BEGIN:VEVENT
DTSTART;TZID=America/Los_Angeles:20241022T080000
DTEND;TZID=America/Los_Angeles:20241022T170000
DTSTAMP:20260420T043849
CREATED:20241101T230422Z
LAST-MODIFIED:20241101T230422Z
UID:10000403-1729584000-1729616400@arivalasvegas.com
SUMMARY:New Moon Yoga & Sound Bath
DESCRIPTION:Join us for a serene evening of New Moon Yoga & Sound Bath guided by Ashley Braveheart. Due to a high number of RSVPs\, this session will be held at the Great Lawn Event Garden! Bring your yoga mats and embrace the fresh energy of the new moon as we flow through calming yoga sequences\, followed by a soothing sound bath designed to promote relaxation and reflection.
URL:https://arivalasvegas.com/event/new-moon-yoga-sound-bath/
CATEGORIES:Events,Resident Only
END:VEVENT
BEGIN:VEVENT
DTSTART;TZID=America/Los_Angeles:20241025T183000
DTEND;TZID=America/Los_Angeles:20241025T210000
DTSTAMP:20260420T043849
CREATED:20241101T230659Z
LAST-MODIFIED:20241101T230659Z
UID:10000405-1729881000-1729890000@arivalasvegas.com
SUMMARY:Concert at the Lawn
DESCRIPTION:Join us for a night of unforgettable music at “Lady Winehouse: A Tribute to Amy and Gaga” on Friday\, October 25th at 6:30 PM! Set against the stunning backdrop of ARIVA’s Great Lawn\, this outdoor concert promises to be a sensational celebration of two iconic artists.
URL:https://arivalasvegas.com/event/concert-at-the-lawn/
CATEGORIES:Community Event,Events
END:VEVENT
BEGIN:VEVENT
DTSTART;TZID=America/Los_Angeles:20241027T130000
DTEND;TZID=America/Los_Angeles:20241027T160000
DTSTAMP:20260420T043849
CREATED:20241101T225952Z
LAST-MODIFIED:20241101T225952Z
UID:10000400-1730034000-1730044800@arivalasvegas.com
SUMMARY:Chiefs vs Raiders Watch Party!
DESCRIPTION:Join us for a mouthwatering catered lunch while you catch all the games on the big screens in the Resident Lounge and Theatre Room! 🍗🍔 Indulge in endless refreshments and don’t miss our halftime games for a shot at fantastic prizes!
URL:https://arivalasvegas.com/event/chiefs-vs-raiders-watch-party/
CATEGORIES:Events,Resident Only
END:VEVENT
BEGIN:VEVENT
DTSTART;TZID=America/Los_Angeles:20241030T183000
DTEND;TZID=America/Los_Angeles:20241030T203000
DTSTAMP:20260420T043849
CREATED:20241101T230830Z
LAST-MODIFIED:20241101T230830Z
UID:10000406-1730313000-1730320200@arivalasvegas.com
SUMMARY:Halloween Happy Hour
DESCRIPTION:Join us for a hauntingly good time at our Halloween Happy Hour! Indulge in specialty drinks and tasty treats while mingling with fellow ghouls and goblins. Dress to impress in your most creative costumes for a chance to win fabulous prizes in our costume contest! Highlights: Specialty Halloween cocktails and mocktails\, Delicious bites\, PhotoBooth with unlimited prints\, Prizes for best costumes for you and YOUR PETS! Live DJ- We can’t wait to celebrate with you! 🎃
URL:https://arivalasvegas.com/event/halloween-happy-hour/
CATEGORIES:Events,Resident Only
END:VEVENT
END:VCALENDAR