BEGIN:VCALENDAR
VERSION:2.0
PRODID:-//Ariva - ECPv6.15.20//NONSGML v1.0//EN
CALSCALE:GREGORIAN
METHOD:PUBLISH
X-WR-CALNAME:Ariva
X-ORIGINAL-URL:https://arivalasvegas.com
X-WR-CALDESC:Events for Ariva
REFRESH-INTERVAL;VALUE=DURATION:PT1H
X-Robots-Tag:noindex
X-PUBLISHED-TTL:PT1H
BEGIN:VTIMEZONE
TZID:America/Los_Angeles
BEGIN:DAYLIGHT
TZOFFSETFROM:-0800
TZOFFSETTO:-0700
TZNAME:PDT
DTSTART:20230312T100000
END:DAYLIGHT
BEGIN:STANDARD
TZOFFSETFROM:-0700
TZOFFSETTO:-0800
TZNAME:PST
DTSTART:20231105T090000
END:STANDARD
BEGIN:DAYLIGHT
TZOFFSETFROM:-0800
TZOFFSETTO:-0700
TZNAME:PDT
DTSTART:20240310T100000
END:DAYLIGHT
BEGIN:STANDARD
TZOFFSETFROM:-0700
TZOFFSETTO:-0800
TZNAME:PST
DTSTART:20241103T090000
END:STANDARD
BEGIN:DAYLIGHT
TZOFFSETFROM:-0800
TZOFFSETTO:-0700
TZNAME:PDT
DTSTART:20250309T100000
END:DAYLIGHT
BEGIN:STANDARD
TZOFFSETFROM:-0700
TZOFFSETTO:-0800
TZNAME:PST
DTSTART:20251102T090000
END:STANDARD
END:VTIMEZONE
BEGIN:VEVENT
DTSTART;TZID=America/Los_Angeles:20240604T190000
DTEND;TZID=America/Los_Angeles:20240604T200000
DTSTAMP:20260424T173917
CREATED:20240621T195446Z
LAST-MODIFIED:20240621T195446Z
UID:10000357-1717527600-1717531200@arivalasvegas.com
SUMMARY:Hip-Hop Fitness Fusion
DESCRIPTION:Get ready to groove and sweat in our Hip Hop Dance Fitness class! This dynamic workout blends the latest hip-hop moves with cardio routines to keep your heart pumping and your body moving.
URL:https://arivalasvegas.com/event/hip-hop-fitness-fusion/
CATEGORIES:Events,Resident Only
END:VEVENT
BEGIN:VEVENT
DTSTART;TZID=America/Los_Angeles:20240607T180000
DTEND;TZID=America/Los_Angeles:20240607T190000
DTSTAMP:20260424T173917
CREATED:20240621T195632Z
LAST-MODIFIED:20240621T195632Z
UID:10000358-1717783200-1717786800@arivalasvegas.com
SUMMARY:Craft & Pour: Mixology Workshop
DESCRIPTION:Learn the secrets of crafting delicious drinks and master the art of mixology in our cocktail-making workshop! In just one hour\, you’ll learn essential techniques and tips to shake\, stir\, and pour like a pro!
URL:https://arivalasvegas.com/event/craft-pour-mixology-workshop/
CATEGORIES:Events,Resident Only
END:VEVENT
BEGIN:VEVENT
DTSTART;TZID=America/Los_Angeles:20240613T190000
DTEND;TZID=America/Los_Angeles:20240613T210000
DTSTAMP:20260424T173917
CREATED:20240621T200010Z
LAST-MODIFIED:20240626T230053Z
UID:10000359-1718305200-1718312400@arivalasvegas.com
SUMMARY:Sip & Paint Night
DESCRIPTION:Let your creativity flow and your worries melt away as you unleash your inner artist and savor delicious wines! Whether you’re a seasoned painter or picking up a brush for the first time\, this event promises an enjoyable experience for all skill levels.
URL:https://arivalasvegas.com/event/sip-paint-night/
CATEGORIES:Events,Resident Only
END:VEVENT
BEGIN:VEVENT
DTSTART;TZID=America/Los_Angeles:20240616T120000
DTEND;TZID=America/Los_Angeles:20240616T140000
DTSTAMP:20260424T173917
CREATED:20240621T200309Z
LAST-MODIFIED:20240626T230654Z
UID:10000360-1718539200-1718546400@arivalasvegas.com
SUMMARY:Father's Day Lunch: Brews & BBQ!
DESCRIPTION:Celebrate Father’s Day in style! Enjoy a delicious catered BBQ truck while our bartender servers you refreshing beers and cocktails.
URL:https://arivalasvegas.com/event/fathers-day-lunch-brews-bbq/
CATEGORIES:Events,Resident Only
END:VEVENT
BEGIN:VEVENT
DTSTART;TZID=America/Los_Angeles:20240619T190000
DTEND;TZID=America/Los_Angeles:20240619T210000
DTSTAMP:20260424T173917
CREATED:20240621T200428Z
LAST-MODIFIED:20240626T225821Z
UID:10000361-1718823600-1718830800@arivalasvegas.com
SUMMARY:Verses & Vibes: A Spoken Word Poetry Night
DESCRIPTION:Join us in an intimate celebration of Juneteenth at ‘Verses & Vibes: A Spoken Word Happy Hour.’ Settle in with a refreshing drink and immerse yourself in an evening of powerful spoken-word performances featuring renowned artists from Beyond the Neon.
URL:https://arivalasvegas.com/event/verses-vibes-a-spoken-word-poetry-night/
CATEGORIES:Events,Resident Only
END:VEVENT
BEGIN:VEVENT
DTSTART;TZID=America/Los_Angeles:20240623T090000
DTEND;TZID=America/Los_Angeles:20240623T140000
DTSTAMP:20260424T173917
CREATED:20240621T200545Z
LAST-MODIFIED:20240626T230414Z
UID:10000362-1719133200-1719151200@arivalasvegas.com
SUMMARY:Viva Ariva Vegan Farmers Market
DESCRIPTION:Join us at our monthly Vegan Farmers Market\, a vibrant gathering celebrating plant-based living and sustainable agriculture. Discover an array of fresh fruits and vegetables\, artisanal plant-based products\, cruelty-free beauty items\, and eco-friendly crafts. Engage with local farmers and vendors passionate about promoting a compassionate and environmentally conscious lifestyle. From flavorful vegan treats to handmade cruelty-free goods\, there’s something for everyone to enjoy!
URL:https://arivalasvegas.com/event/viva-ariva-vegan-farmers-market-2/
CATEGORIES:Community Event,Events
END:VEVENT
END:VCALENDAR