BEGIN:VCALENDAR
VERSION:2.0
PRODID:-//Ariva - ECPv6.15.20//NONSGML v1.0//EN
CALSCALE:GREGORIAN
METHOD:PUBLISH
X-ORIGINAL-URL:https://arivalasvegas.com
X-WR-CALDESC:Events for Ariva
REFRESH-INTERVAL;VALUE=DURATION:PT1H
X-Robots-Tag:noindex
X-PUBLISHED-TTL:PT1H
BEGIN:VTIMEZONE
TZID:America/Los_Angeles
BEGIN:DAYLIGHT
TZOFFSETFROM:-0800
TZOFFSETTO:-0700
TZNAME:PDT
DTSTART:20240310T100000
END:DAYLIGHT
BEGIN:STANDARD
TZOFFSETFROM:-0700
TZOFFSETTO:-0800
TZNAME:PST
DTSTART:20241103T090000
END:STANDARD
BEGIN:DAYLIGHT
TZOFFSETFROM:-0800
TZOFFSETTO:-0700
TZNAME:PDT
DTSTART:20250309T100000
END:DAYLIGHT
BEGIN:STANDARD
TZOFFSETFROM:-0700
TZOFFSETTO:-0800
TZNAME:PST
DTSTART:20251102T090000
END:STANDARD
BEGIN:DAYLIGHT
TZOFFSETFROM:-0800
TZOFFSETTO:-0700
TZNAME:PDT
DTSTART:20260308T100000
END:DAYLIGHT
BEGIN:STANDARD
TZOFFSETFROM:-0700
TZOFFSETTO:-0800
TZNAME:PST
DTSTART:20261101T090000
END:STANDARD
END:VTIMEZONE
BEGIN:VEVENT
DTSTART;TZID=America/Los_Angeles:20250509T180000
DTEND;TZID=America/Los_Angeles:20250509T200000
DTSTAMP:20260422T052002
CREATED:20250502T001415Z
LAST-MODIFIED:20250502T001415Z
UID:10000450-1746813600-1746820800@arivalasvegas.com
SUMMARY:BBQ & BYOB Night!
DESCRIPTION:Join us for an unforgettable evening under the stars as Chef Le fires up the grills and we turn up the tunes! Come enjoy the beautiful weather and savor the flavors of summer with juicy hamburgers\, classic hot dogs\, and mouthwatering Brazilian steaks fresh off the grill.
URL:https://arivalasvegas.com/event/bbq-byob-night/
CATEGORIES:Events,Resident Only
END:VEVENT
END:VCALENDAR