BEGIN:VCALENDAR
VERSION:2.0
PRODID:-//Ariva - ECPv6.15.20//NONSGML v1.0//EN
CALSCALE:GREGORIAN
METHOD:PUBLISH
X-ORIGINAL-URL:https://arivalasvegas.com
X-WR-CALDESC:Events for Ariva
REFRESH-INTERVAL;VALUE=DURATION:PT1H
X-Robots-Tag:noindex
X-PUBLISHED-TTL:PT1H
BEGIN:VTIMEZONE
TZID:America/Los_Angeles
BEGIN:DAYLIGHT
TZOFFSETFROM:-0800
TZOFFSETTO:-0700
TZNAME:PDT
DTSTART:20240310T100000
END:DAYLIGHT
BEGIN:STANDARD
TZOFFSETFROM:-0700
TZOFFSETTO:-0800
TZNAME:PST
DTSTART:20241103T090000
END:STANDARD
BEGIN:DAYLIGHT
TZOFFSETFROM:-0800
TZOFFSETTO:-0700
TZNAME:PDT
DTSTART:20250309T100000
END:DAYLIGHT
BEGIN:STANDARD
TZOFFSETFROM:-0700
TZOFFSETTO:-0800
TZNAME:PST
DTSTART:20251102T090000
END:STANDARD
BEGIN:DAYLIGHT
TZOFFSETFROM:-0800
TZOFFSETTO:-0700
TZNAME:PDT
DTSTART:20260308T100000
END:DAYLIGHT
BEGIN:STANDARD
TZOFFSETFROM:-0700
TZOFFSETTO:-0800
TZNAME:PST
DTSTART:20261101T090000
END:STANDARD
END:VTIMEZONE
BEGIN:VEVENT
DTSTART;TZID=America/Los_Angeles:20251214T110000
DTEND;TZID=America/Los_Angeles:20251214T140000
DTSTAMP:20260420T075310
CREATED:20251201T201243Z
LAST-MODIFIED:20251201T201243Z
UID:10000567-1765710000-1765720800@arivalasvegas.com
SUMMARY:GET FIT DAY PARTY: Baddie Bootcamp 💪✨
DESCRIPTION:Get ready for a high-vibe day of movement\, beauty & connection – your full-body reset + celebration of wellness & self-care! \n🌟 What’s Happening:\n🥂 Pre-Workout Mocktails + DJ Vibes\n🔥 Baddie Bootcamp w/ @getfitlasvegas\n💃 Step Up LV\n🧘‍♀️ LW Active Signature Stretch\n💅 Complimentary Wellness Activations\n✨ Giveaways
URL:https://arivalasvegas.com/event/get-fit-day-party-baddie-bootcamp-%f0%9f%92%aa%e2%9c%a8/
CATEGORIES:Community Event,Events
END:VEVENT
END:VCALENDAR