BEGIN:VCALENDAR
VERSION:2.0
PRODID:-//Ariva - ECPv6.15.20//NONSGML v1.0//EN
CALSCALE:GREGORIAN
METHOD:PUBLISH
X-ORIGINAL-URL:https://arivalasvegas.com
X-WR-CALDESC:Events for Ariva
REFRESH-INTERVAL;VALUE=DURATION:PT1H
X-Robots-Tag:noindex
X-PUBLISHED-TTL:PT1H
BEGIN:VTIMEZONE
TZID:America/Los_Angeles
BEGIN:DAYLIGHT
TZOFFSETFROM:-0800
TZOFFSETTO:-0700
TZNAME:PDT
DTSTART:20240310T100000
END:DAYLIGHT
BEGIN:STANDARD
TZOFFSETFROM:-0700
TZOFFSETTO:-0800
TZNAME:PST
DTSTART:20241103T090000
END:STANDARD
BEGIN:DAYLIGHT
TZOFFSETFROM:-0800
TZOFFSETTO:-0700
TZNAME:PDT
DTSTART:20250309T100000
END:DAYLIGHT
BEGIN:STANDARD
TZOFFSETFROM:-0700
TZOFFSETTO:-0800
TZNAME:PST
DTSTART:20251102T090000
END:STANDARD
BEGIN:DAYLIGHT
TZOFFSETFROM:-0800
TZOFFSETTO:-0700
TZNAME:PDT
DTSTART:20260308T100000
END:DAYLIGHT
BEGIN:STANDARD
TZOFFSETFROM:-0700
TZOFFSETTO:-0800
TZNAME:PST
DTSTART:20261101T090000
END:STANDARD
END:VTIMEZONE
BEGIN:VEVENT
DTSTART;TZID=America/Los_Angeles:20251203T180000
DTEND;TZID=America/Los_Angeles:20251203T193000
DTSTAMP:20260420T174034
CREATED:20251201T202430Z
LAST-MODIFIED:20251201T202430Z
UID:10000578-1764784800-1764790200@arivalasvegas.com
SUMMARY:Sip & Paint: Ugly Sweater Edition
DESCRIPTION:Join us for a festive evening of holiday-inspired painting\, complete with step-by-step guidance to help you create your very own seasonal masterpiece\, no experience needed. Sip your favorite wine\, get creative\, and enjoy a cozy night of artistry. \nCome dressed in your most over-the-top ugly sweater for a chance to win our Ugly Sweater Contest- the bolder\, the better!
URL:https://arivalasvegas.com/event/sip-paint-ugly-sweater-edition/
CATEGORIES:Events,Resident Only
END:VEVENT
END:VCALENDAR