BEGIN:VCALENDAR
VERSION:2.0
PRODID:-//Ariva - ECPv6.15.20//NONSGML v1.0//EN
CALSCALE:GREGORIAN
METHOD:PUBLISH
X-ORIGINAL-URL:https://arivalasvegas.com
X-WR-CALDESC:Events for Ariva
REFRESH-INTERVAL;VALUE=DURATION:PT1H
X-Robots-Tag:noindex
X-PUBLISHED-TTL:PT1H
BEGIN:VTIMEZONE
TZID:America/Los_Angeles
BEGIN:DAYLIGHT
TZOFFSETFROM:-0800
TZOFFSETTO:-0700
TZNAME:PDT
DTSTART:20240310T100000
END:DAYLIGHT
BEGIN:STANDARD
TZOFFSETFROM:-0700
TZOFFSETTO:-0800
TZNAME:PST
DTSTART:20241103T090000
END:STANDARD
BEGIN:DAYLIGHT
TZOFFSETFROM:-0800
TZOFFSETTO:-0700
TZNAME:PDT
DTSTART:20250309T100000
END:DAYLIGHT
BEGIN:STANDARD
TZOFFSETFROM:-0700
TZOFFSETTO:-0800
TZNAME:PST
DTSTART:20251102T090000
END:STANDARD
BEGIN:DAYLIGHT
TZOFFSETFROM:-0800
TZOFFSETTO:-0700
TZNAME:PDT
DTSTART:20260308T100000
END:DAYLIGHT
BEGIN:STANDARD
TZOFFSETFROM:-0700
TZOFFSETTO:-0800
TZNAME:PST
DTSTART:20261101T090000
END:STANDARD
END:VTIMEZONE
BEGIN:VEVENT
DTSTART;TZID=America/Los_Angeles:20250128T170000
DTEND;TZID=America/Los_Angeles:20250128T190000
DTSTAMP:20260424T073908
CREATED:20250123T203625Z
LAST-MODIFIED:20250123T203625Z
UID:10000430-1738083600-1738090800@arivalasvegas.com
SUMMARY:Sips & Scents: A Wine-Tasting and Candle-Making Experience
DESCRIPTION:Indulge in a curated selection of exquisite wines while creating your own custom candle\, guided by expert hands.
URL:https://arivalasvegas.com/event/sips-scents-a-wine-tasting-and-candle-making-experience/
CATEGORIES:Events,Resident Only
END:VEVENT
END:VCALENDAR