BEGIN:VCALENDAR
VERSION:2.0
PRODID:-//Ariva - ECPv6.15.20//NONSGML v1.0//EN
CALSCALE:GREGORIAN
METHOD:PUBLISH
X-ORIGINAL-URL:https://arivalasvegas.com
X-WR-CALDESC:Events for Ariva
REFRESH-INTERVAL;VALUE=DURATION:PT1H
X-Robots-Tag:noindex
X-PUBLISHED-TTL:PT1H
BEGIN:VTIMEZONE
TZID:America/Los_Angeles
BEGIN:DAYLIGHT
TZOFFSETFROM:-0800
TZOFFSETTO:-0700
TZNAME:PDT
DTSTART:20230312T100000
END:DAYLIGHT
BEGIN:STANDARD
TZOFFSETFROM:-0700
TZOFFSETTO:-0800
TZNAME:PST
DTSTART:20231105T090000
END:STANDARD
BEGIN:DAYLIGHT
TZOFFSETFROM:-0800
TZOFFSETTO:-0700
TZNAME:PDT
DTSTART:20240310T100000
END:DAYLIGHT
BEGIN:STANDARD
TZOFFSETFROM:-0700
TZOFFSETTO:-0800
TZNAME:PST
DTSTART:20241103T090000
END:STANDARD
BEGIN:DAYLIGHT
TZOFFSETFROM:-0800
TZOFFSETTO:-0700
TZNAME:PDT
DTSTART:20250309T100000
END:DAYLIGHT
BEGIN:STANDARD
TZOFFSETFROM:-0700
TZOFFSETTO:-0800
TZNAME:PST
DTSTART:20251102T090000
END:STANDARD
END:VTIMEZONE
BEGIN:VEVENT
DTSTART;TZID=America/Los_Angeles:20240607T180000
DTEND;TZID=America/Los_Angeles:20240607T190000
DTSTAMP:20260424T091229
CREATED:20240621T195632Z
LAST-MODIFIED:20240621T195632Z
UID:10000358-1717783200-1717786800@arivalasvegas.com
SUMMARY:Craft & Pour: Mixology Workshop
DESCRIPTION:Learn the secrets of crafting delicious drinks and master the art of mixology in our cocktail-making workshop! In just one hour\, you’ll learn essential techniques and tips to shake\, stir\, and pour like a pro!
URL:https://arivalasvegas.com/event/craft-pour-mixology-workshop/
CATEGORIES:Events,Resident Only
END:VEVENT
END:VCALENDAR